BEGIN:VCALENDAR
VERSION:2.0
CALSCALE:GREGORIAN
PRODID:-//Diputació de Barcelona//DibaCMS//EN
BEGIN:VEVENT
UID:3576
DTSTAMP:20260425T161916
DTSTART:20260613T110000
DTEND:20260613T230000
SUMMARY:Venite Venite
LOCATION:
METHOD:PUBLISH
X-WR-CALNAME:st.quinti@santquintimediona.cat
X-WR-TIMEZONE:Europe/Madrid
DESCRIPTION:
URI:https://www.santquintimediona.cat/casa-de-la-vila/comunicacio/agenda/3576-venite-venite.html
CLASS:PUBLIC
END:VEVENT
END:VCALENDAR
