BEGIN:VCALENDAR
VERSION:2.0
CALSCALE:GREGORIAN
PRODID:-//Diputació de Barcelona//DibaCMS//EN
BEGIN:VEVENT
UID:3572
DTSTAMP:20260425T161510
DTSTART:20260426T100000
DTEND:20260426T130000
SUMMARY:Caminada de Vilet al Bolet
LOCATION:
METHOD:PUBLISH
X-WR-CALNAME:st.quinti@santquintimediona.cat
X-WR-TIMEZONE:Europe/Madrid
DESCRIPTION:
URI:https://www.santquintimediona.cat/casa-de-la-vila/comunicacio/agenda/caminada-de-vilet-al-bolet.html
CLASS:PUBLIC
END:VEVENT
END:VCALENDAR
