BEGIN:VCALENDAR
VERSION:2.0
CALSCALE:GREGORIAN
PRODID:-//Diputació de Barcelona//DibaCMS//EN
BEGIN:VEVENT
UID:3571
DTSTAMP:20260425T161526
DTSTART:20260425T180000
DTEND:20260425T230000
SUMMARY:Vespreig Bastoner
LOCATION:
METHOD:PUBLISH
X-WR-CALNAME:st.quinti@santquintimediona.cat
X-WR-TIMEZONE:Europe/Madrid
DESCRIPTION:
URI:https://www.santquintimediona.cat/casa-de-la-vila/comunicacio/agenda/vespreig-bastoner.html
CLASS:PUBLIC
END:VEVENT
END:VCALENDAR
