BEGIN:VCALENDAR
VERSION:2.0
CALSCALE:GREGORIAN
PRODID:-//Diputació de Barcelona//DibaCMS//EN
BEGIN:VEVENT
UID:3569
DTSTAMP:20260424T155424
DTSTART:20260811T000000
DTEND:20260818T000000
SUMMARY:Festa Major
LOCATION:
METHOD:PUBLISH
X-WR-CALNAME:st.quinti@santquintimediona.cat
X-WR-TIMEZONE:Europe/Madrid
DESCRIPTION:
URI:https://www.santquintimediona.cat/casa-de-la-vila/comunicacio/agenda/3569-festa-major.html
CLASS:PUBLIC
END:VEVENT
END:VCALENDAR
