BEGIN:VCALENDAR
VERSION:2.0
CALSCALE:GREGORIAN
PRODID:-//Diputació de Barcelona//DibaCMS//EN
BEGIN:VEVENT
UID:3568
DTSTAMP:20260424T155724
DTSTART:20260504T000000
DTEND:20260504T230000
SUMMARY:Sant Antoni de les Malalties
LOCATION:
METHOD:PUBLISH
X-WR-CALNAME:st.quinti@santquintimediona.cat
X-WR-TIMEZONE:Europe/Madrid
DESCRIPTION:
URI:https://www.santquintimediona.cat/casa-de-la-vila/comunicacio/agenda/3568-sant-antoni-de-les-malalties.html
CLASS:PUBLIC
END:VEVENT
END:VCALENDAR
