BEGIN:VCALENDAR
VERSION:2.0
CALSCALE:GREGORIAN
PRODID:-//Diputació de Barcelona//DibaCMS//EN
BEGIN:VEVENT
UID:3534
DTSTAMP:20260422T104100
DTSTART:20251220T170000
DTEND:20251220T190000
SUMMARY:Festival de Dansa i Patinatge Artístic de l'Escola Esportiva Municipal
LOCATION:
METHOD:PUBLISH
X-WR-CALNAME:st.quinti@santquintimediona.cat
X-WR-TIMEZONE:Europe/Madrid
DESCRIPTION:
URI:https://www.santquintimediona.cat/casa-de-la-vila/comunicacio/agenda/festival-de-dansa-i-patinatge-artistic-de-lescola-esportiva-municipal.html
CLASS:PUBLIC
END:VEVENT
END:VCALENDAR
