BEGIN:VCALENDAR
VERSION:2.0
CALSCALE:GREGORIAN
PRODID:-//Diputació de Barcelona//DibaCMS//EN
BEGIN:VEVENT
UID:3523
DTSTAMP:20260421T105705
DTSTART:20251025T030000
DTEND:20251025T150000
SUMMARY:Sortida a Montserrat
LOCATION:
METHOD:PUBLISH
X-WR-CALNAME:st.quinti@santquintimediona.cat
X-WR-TIMEZONE:Europe/Madrid
DESCRIPTION:
URI:https://www.santquintimediona.cat/casa-de-la-vila/comunicacio/agenda/sortida-a-montserrat.html
CLASS:PUBLIC
END:VEVENT
END:VCALENDAR
