BEGIN:VCALENDAR
VERSION:2.0
CALSCALE:GREGORIAN
PRODID:-//Diputació de Barcelona//DibaCMS//EN
BEGIN:VEVENT
UID:3415
DTSTAMP:20260421T215342
DTSTART:20250408T000000
DTEND:20250408T000000
SUMMARY:Obertes les inscripcions al 34è Concurs Literari de Sant Jordi 
LOCATION:
METHOD:PUBLISH
X-WR-CALNAME:st.quinti@santquintimediona.cat
X-WR-TIMEZONE:Europe/Madrid
DESCRIPTION:La Biblioteca Joan Sardà i Lloret, amb motiu de la celebració de Sant Jordi, ha obert la convocatòria del 34è Concurs Literari de Sant Jordi, una iniciativa que promou la creativitat i l’expressió escrita entre persones de totes les edats.

URI:https://www.santquintimediona.cat/casa-de-la-vila/comunicacio/agenda/obertes-les-inscripcions-al-34e-concurs-literari-de-sant-jordi-.html
CLASS:PUBLIC
END:VEVENT
END:VCALENDAR
