BEGIN:VCALENDAR
VERSION:2.0
CALSCALE:GREGORIAN
PRODID:-//Diputació de Barcelona//DibaCMS//EN
BEGIN:VEVENT
UID:3232
DTSTAMP:20260420T102055
DTSTART:20240711T200000
DTEND:20240711T210000
SUMMARY:Concert de joves intèrprets 
LOCATION:Pl Pi i Margall, 14-16  2n pis 08777 Sant Quintí de Mediona
METHOD:PUBLISH
X-WR-CALNAME:st.quinti@santquintimediona.cat
X-WR-TIMEZONE:Europe/Madrid
DESCRIPTION:
URI:https://www.santquintimediona.cat/casa-de-la-vila/comunicacio/agenda/concert-de-joves-interprets-.html
CLASS:PUBLIC
END:VEVENT
END:VCALENDAR
