BEGIN:VCALENDAR
VERSION:2.0
CALSCALE:GREGORIAN
PRODID:-//Diputació de Barcelona//DibaCMS//EN
BEGIN:VEVENT
UID:3191
DTSTAMP:20260419T170837
DTSTART:20240613T163000
DTEND:20240613T200000
SUMMARY:Circuit de Pump Track 
LOCATION:
METHOD:PUBLISH
X-WR-CALNAME:st.quinti@santquintimediona.cat
X-WR-TIMEZONE:Europe/Madrid
DESCRIPTION:
URI:https://www.santquintimediona.cat/casa-de-la-vila/comunicacio/agenda/3191-circuit-de-pump-track-.html
CLASS:PUBLIC
END:VEVENT
END:VCALENDAR
