BEGIN:VCALENDAR
VERSION:2.0
CALSCALE:GREGORIAN
PRODID:-//Diputació de Barcelona//DibaCMS//EN
BEGIN:VEVENT
UID:2361
DTSTAMP:20260420T095342
DTSTART:20211218T190000
DTEND:20211218T210000
SUMMARY:Pessebre vivent
LOCATION:Nucli antic de Sant Quintí  
METHOD:PUBLISH
X-WR-CALNAME:st.quinti@santquintimediona.cat
X-WR-TIMEZONE:Europe/Madrid
DESCRIPTION:
URI:https://www.santquintimediona.cat/casa-de-la-vila/comunicacio/agenda/pessebre-vivent.html
CLASS:PUBLIC
END:VEVENT
END:VCALENDAR
