BEGIN:VCALENDAR
VERSION:2.0
CALSCALE:GREGORIAN
PRODID:-//Diputació de Barcelona//DibaCMS//EN
BEGIN:VEVENT
UID:1722
DTSTAMP:20260422T062835
DTSTART:20200731T220000
DTEND:20200731T233000
SUMMARY:Concert a la fresca 2020: Quintinenc Trio
LOCATION:Sant Antoni, 13 08777 Sant Quintí de Mediona
METHOD:PUBLISH
X-WR-CALNAME:st.quinti@santquintimediona.cat
X-WR-TIMEZONE:Europe/Madrid
DESCRIPTION:
URI:https://www.santquintimediona.cat/casa-de-la-vila/comunicacio/agenda/concert-a-la-fresca-2020-quintinenc-trio.html
CLASS:PUBLIC
END:VEVENT
END:VCALENDAR
